BEGIN:VCALENDAR
VERSION:2.0
PRODID:-//David Magazine - ECPv6.15.17//NONSGML v1.0//EN
CALSCALE:GREGORIAN
METHOD:PUBLISH
X-WR-CALNAME:David Magazine
X-ORIGINAL-URL:https://www.davidatlanta.com
X-WR-CALDESC:Events for David Magazine
REFRESH-INTERVAL;VALUE=DURATION:PT1H
X-Robots-Tag:noindex
X-PUBLISHED-TTL:PT1H
BEGIN:VTIMEZONE
TZID:UTC
BEGIN:STANDARD
TZOFFSETFROM:+0000
TZOFFSETTO:+0000
TZNAME:UTC
DTSTART:20240101T000000
END:STANDARD
END:VTIMEZONE
BEGIN:VEVENT
DTSTART;TZID=UTC:20251127T150000
DTEND;TZID=UTC:20251128T030000
DTSTAMP:20260421T101458
CREATED:20251114T224706Z
LAST-MODIFIED:20251114T224726Z
UID:10004800-1764255600-1764298800@www.davidatlanta.com
SUMMARY:THANKSGIVING AT FELIX’S 
DESCRIPTION:Thursday\, Nov 27\nBar opens at 3PM | Dinner served at 5PM | Open ‘til 3AM\nThis Thanksgiving\, we’re keeping it in the family.\nJoin us for a Complimentary Community Dinner — cooked and served with love by the Felix’s staff and management.\nWhether you’re flying solo\, bringing your chosen fam\, or just want a plate and a place to belong\, we’ve got you.\nCome for dinner\, stay for drinks\, laughter\, and late-night chaos — it’s how we do the holidays at Atlanta’s gayest neighborhood dive bar.\n Dinner at 5PM Bar open all night Community\, connection\, and cocktails — all served hot.\nFelix’s Atlanta — Grateful. Gay. And open ‘til 3AM.
URL:https://www.davidatlanta.com/event/thanksgiving-at-felixs/
LOCATION:Felix Atlanta
ATTACH;FMTTYPE=image/jpeg:https://www.davidatlanta.com/wp-content/uploads/2025/11/Thanksgiving-dinner-Felixs.jpg
END:VEVENT
BEGIN:VEVENT
DTSTART;TZID=UTC:20251115T220000
DTEND;TZID=UTC:20251116T033000
DTSTAMP:20260421T101458
CREATED:20251114T223320Z
LAST-MODIFIED:20251114T223320Z
UID:10004793-1763244000-1763263800@www.davidatlanta.com
SUMMARY:DJ AF’s BIRTHDAY BASH
DESCRIPTION:DJ AF’s BIRTHDAY BASH \nSaturday\, Nov 15 • 10PM–3AM • Felix’s Atlanta\nIt’s the birthday of the century — and we’re throwing it down Felix’s style.\nJoin us for DJ AF’s Birthday Bash\, a night of filthy beats\, strong drinks\, and unhinged celebration for the legend himself.\n Beats by the birthday boy — DJ AF Dance floor chaos all night long Drink specials to keep the party lit Surprises\, shots\, and scandalous fun\nWhether you come to dance\, toast\, or cause a little trouble\, this is the party you don’t want to miss.Come show some love and get a little AF with us.\nFelix’s Atlanta — Loud. Proud. Party AF.
URL:https://www.davidatlanta.com/event/dj-afs-birthday-bash/
LOCATION:Felix Atlanta
ATTACH;FMTTYPE=image/jpeg:https://www.davidatlanta.com/wp-content/uploads/2025/11/Felix-AF-Bday.jpg
END:VEVENT
BEGIN:VEVENT
DTSTART;TZID=UTC:20251101T200000
DTEND;TZID=UTC:20251101T220000
DTSTAMP:20260421T101458
CREATED:20251031T203715Z
LAST-MODIFIED:20251031T203715Z
UID:10004771-1762027200-1762034400@www.davidatlanta.com
SUMMARY:It's ALIVE! Pride of Frankenstein Party
DESCRIPTION:Do you have the charisma\, the horror\, and the chaos to be America’s Next Horror Host?Join us for the Casting Call at our Pride of Frankenstein party —Saturday\, 8–10PM\, followed by the after party of monstrous proportions. DJ AF spinning all night Mad science meets queer horror Costumes highly encouraged — come as your most electrifying self.
URL:https://www.davidatlanta.com/event/its-alive-pride-of-frankenstein-party/
LOCATION:Felix Atlanta
ATTACH;FMTTYPE=image/jpeg:https://www.davidatlanta.com/wp-content/uploads/2025/10/Felix-halloween.jpg
END:VEVENT
END:VCALENDAR