BEGIN:VCALENDAR
VERSION:2.0
PRODID:-//David Magazine - ECPv6.15.17//NONSGML v1.0//EN
CALSCALE:GREGORIAN
METHOD:PUBLISH
X-WR-CALNAME:David Magazine
X-ORIGINAL-URL:https://www.davidatlanta.com
X-WR-CALDESC:Events for David Magazine
REFRESH-INTERVAL;VALUE=DURATION:PT1H
X-Robots-Tag:noindex
X-PUBLISHED-TTL:PT1H
BEGIN:VTIMEZONE
TZID:UTC
BEGIN:STANDARD
TZOFFSETFROM:+0000
TZOFFSETTO:+0000
TZNAME:UTC
DTSTART:20250101T000000
END:STANDARD
END:VTIMEZONE
BEGIN:VEVENT
DTSTART;TZID=UTC:20260501T210000
DTEND;TZID=UTC:20260502T030000
DTSTAMP:20260421T114926
CREATED:20260306T223521Z
LAST-MODIFIED:20260306T223525Z
UID:10007642-1777669200-1777690800@www.davidatlanta.com
SUMMARY:First Fridays w. Ron Pullman
DESCRIPTION:Kick off First Fridays with music by none other than the legendary DJ Ron Pullman\, giving you current and classic house beats all night long.
URL:https://www.davidatlanta.com/event/first-fridays-w-ron-pullman/2026-05-01/
LOCATION:Atlanta Eagle
ATTACH;FMTTYPE=image/png:https://www.davidatlanta.com/wp-content/uploads/2026/03/Ron-Pullman-First-Fridays.png
END:VEVENT
BEGIN:VEVENT
DTSTART;TZID=UTC:20260605T210000
DTEND;TZID=UTC:20260606T030000
DTSTAMP:20260421T114926
CREATED:20260306T223521Z
LAST-MODIFIED:20260306T223525Z
UID:10007643-1780693200-1780714800@www.davidatlanta.com
SUMMARY:First Fridays w. Ron Pullman
DESCRIPTION:Kick off First Fridays with music by none other than the legendary DJ Ron Pullman\, giving you current and classic house beats all night long.
URL:https://www.davidatlanta.com/event/first-fridays-w-ron-pullman/2026-06-05/
LOCATION:Atlanta Eagle
ATTACH;FMTTYPE=image/png:https://www.davidatlanta.com/wp-content/uploads/2026/03/Ron-Pullman-First-Fridays.png
END:VEVENT
BEGIN:VEVENT
DTSTART;TZID=UTC:20260703T210000
DTEND;TZID=UTC:20260704T030000
DTSTAMP:20260421T114926
CREATED:20260306T223521Z
LAST-MODIFIED:20260306T223525Z
UID:10007644-1783112400-1783134000@www.davidatlanta.com
SUMMARY:First Fridays w. Ron Pullman
DESCRIPTION:Kick off First Fridays with music by none other than the legendary DJ Ron Pullman\, giving you current and classic house beats all night long.
URL:https://www.davidatlanta.com/event/first-fridays-w-ron-pullman/2026-07-03/
LOCATION:Atlanta Eagle
ATTACH;FMTTYPE=image/png:https://www.davidatlanta.com/wp-content/uploads/2026/03/Ron-Pullman-First-Fridays.png
END:VEVENT
BEGIN:VEVENT
DTSTART;TZID=UTC:20260807T210000
DTEND;TZID=UTC:20260808T030000
DTSTAMP:20260421T114926
CREATED:20260306T223521Z
LAST-MODIFIED:20260306T223525Z
UID:10007645-1786136400-1786158000@www.davidatlanta.com
SUMMARY:First Fridays w. Ron Pullman
DESCRIPTION:Kick off First Fridays with music by none other than the legendary DJ Ron Pullman\, giving you current and classic house beats all night long.
URL:https://www.davidatlanta.com/event/first-fridays-w-ron-pullman/2026-08-07/
LOCATION:Atlanta Eagle
ATTACH;FMTTYPE=image/png:https://www.davidatlanta.com/wp-content/uploads/2026/03/Ron-Pullman-First-Fridays.png
END:VEVENT
BEGIN:VEVENT
DTSTART;TZID=UTC:20260904T210000
DTEND;TZID=UTC:20260905T030000
DTSTAMP:20260421T114926
CREATED:20260306T223521Z
LAST-MODIFIED:20260306T223525Z
UID:10007646-1788555600-1788577200@www.davidatlanta.com
SUMMARY:First Fridays w. Ron Pullman
DESCRIPTION:Kick off First Fridays with music by none other than the legendary DJ Ron Pullman\, giving you current and classic house beats all night long.
URL:https://www.davidatlanta.com/event/first-fridays-w-ron-pullman/2026-09-04/
LOCATION:Atlanta Eagle
ATTACH;FMTTYPE=image/png:https://www.davidatlanta.com/wp-content/uploads/2026/03/Ron-Pullman-First-Fridays.png
END:VEVENT
BEGIN:VEVENT
DTSTART;TZID=UTC:20261002T210000
DTEND;TZID=UTC:20261003T030000
DTSTAMP:20260421T114926
CREATED:20260306T223521Z
LAST-MODIFIED:20260306T223525Z
UID:10007647-1790974800-1790996400@www.davidatlanta.com
SUMMARY:First Fridays w. Ron Pullman
DESCRIPTION:Kick off First Fridays with music by none other than the legendary DJ Ron Pullman\, giving you current and classic house beats all night long.
URL:https://www.davidatlanta.com/event/first-fridays-w-ron-pullman/2026-10-02/
LOCATION:Atlanta Eagle
ATTACH;FMTTYPE=image/png:https://www.davidatlanta.com/wp-content/uploads/2026/03/Ron-Pullman-First-Fridays.png
END:VEVENT
BEGIN:VEVENT
DTSTART;TZID=UTC:20261106T210000
DTEND;TZID=UTC:20261107T030000
DTSTAMP:20260421T114927
CREATED:20260306T223521Z
LAST-MODIFIED:20260306T223525Z
UID:10007648-1793998800-1794020400@www.davidatlanta.com
SUMMARY:First Fridays w. Ron Pullman
DESCRIPTION:Kick off First Fridays with music by none other than the legendary DJ Ron Pullman\, giving you current and classic house beats all night long.
URL:https://www.davidatlanta.com/event/first-fridays-w-ron-pullman/2026-11-06/
LOCATION:Atlanta Eagle
ATTACH;FMTTYPE=image/png:https://www.davidatlanta.com/wp-content/uploads/2026/03/Ron-Pullman-First-Fridays.png
END:VEVENT
BEGIN:VEVENT
DTSTART;TZID=UTC:20261204T210000
DTEND;TZID=UTC:20261205T030000
DTSTAMP:20260421T114927
CREATED:20260306T223521Z
LAST-MODIFIED:20260306T223525Z
UID:10007649-1796418000-1796439600@www.davidatlanta.com
SUMMARY:First Fridays w. Ron Pullman
DESCRIPTION:Kick off First Fridays with music by none other than the legendary DJ Ron Pullman\, giving you current and classic house beats all night long.
URL:https://www.davidatlanta.com/event/first-fridays-w-ron-pullman/2026-12-04/
LOCATION:Atlanta Eagle
ATTACH;FMTTYPE=image/png:https://www.davidatlanta.com/wp-content/uploads/2026/03/Ron-Pullman-First-Fridays.png
END:VEVENT
BEGIN:VEVENT
DTSTART;TZID=UTC:20270101T210000
DTEND;TZID=UTC:20270102T030000
DTSTAMP:20260421T114927
CREATED:20260306T223521Z
LAST-MODIFIED:20260306T223525Z
UID:10007650-1798837200-1798858800@www.davidatlanta.com
SUMMARY:First Fridays w. Ron Pullman
DESCRIPTION:Kick off First Fridays with music by none other than the legendary DJ Ron Pullman\, giving you current and classic house beats all night long.
URL:https://www.davidatlanta.com/event/first-fridays-w-ron-pullman/2027-01-01/
LOCATION:Atlanta Eagle
ATTACH;FMTTYPE=image/png:https://www.davidatlanta.com/wp-content/uploads/2026/03/Ron-Pullman-First-Fridays.png
END:VEVENT
BEGIN:VEVENT
DTSTART;TZID=UTC:20270205T210000
DTEND;TZID=UTC:20270206T030000
DTSTAMP:20260421T114927
CREATED:20260306T223521Z
LAST-MODIFIED:20260306T223525Z
UID:10007651-1801861200-1801882800@www.davidatlanta.com
SUMMARY:First Fridays w. Ron Pullman
DESCRIPTION:Kick off First Fridays with music by none other than the legendary DJ Ron Pullman\, giving you current and classic house beats all night long.
URL:https://www.davidatlanta.com/event/first-fridays-w-ron-pullman/2027-02-05/
LOCATION:Atlanta Eagle
ATTACH;FMTTYPE=image/png:https://www.davidatlanta.com/wp-content/uploads/2026/03/Ron-Pullman-First-Fridays.png
END:VEVENT
BEGIN:VEVENT
DTSTART;TZID=UTC:20270305T210000
DTEND;TZID=UTC:20270306T030000
DTSTAMP:20260421T114927
CREATED:20260306T223521Z
LAST-MODIFIED:20260306T223525Z
UID:10007652-1804280400-1804302000@www.davidatlanta.com
SUMMARY:First Fridays w. Ron Pullman
DESCRIPTION:Kick off First Fridays with music by none other than the legendary DJ Ron Pullman\, giving you current and classic house beats all night long.
URL:https://www.davidatlanta.com/event/first-fridays-w-ron-pullman/2027-03-05/
LOCATION:Atlanta Eagle
ATTACH;FMTTYPE=image/png:https://www.davidatlanta.com/wp-content/uploads/2026/03/Ron-Pullman-First-Fridays.png
END:VEVENT
BEGIN:VEVENT
DTSTART;TZID=UTC:20270402T210000
DTEND;TZID=UTC:20270403T030000
DTSTAMP:20260421T114927
CREATED:20260306T223521Z
LAST-MODIFIED:20260306T223525Z
UID:10007653-1806699600-1806721200@www.davidatlanta.com
SUMMARY:First Fridays w. Ron Pullman
DESCRIPTION:Kick off First Fridays with music by none other than the legendary DJ Ron Pullman\, giving you current and classic house beats all night long.
URL:https://www.davidatlanta.com/event/first-fridays-w-ron-pullman/2027-04-02/
LOCATION:Atlanta Eagle
ATTACH;FMTTYPE=image/png:https://www.davidatlanta.com/wp-content/uploads/2026/03/Ron-Pullman-First-Fridays.png
END:VEVENT
BEGIN:VEVENT
DTSTART;TZID=UTC:20270507T210000
DTEND;TZID=UTC:20270508T030000
DTSTAMP:20260421T114927
CREATED:20260306T223521Z
LAST-MODIFIED:20260306T223525Z
UID:10007654-1809723600-1809745200@www.davidatlanta.com
SUMMARY:First Fridays w. Ron Pullman
DESCRIPTION:Kick off First Fridays with music by none other than the legendary DJ Ron Pullman\, giving you current and classic house beats all night long.
URL:https://www.davidatlanta.com/event/first-fridays-w-ron-pullman/2027-05-07/
LOCATION:Atlanta Eagle
ATTACH;FMTTYPE=image/png:https://www.davidatlanta.com/wp-content/uploads/2026/03/Ron-Pullman-First-Fridays.png
END:VEVENT
BEGIN:VEVENT
DTSTART;TZID=UTC:20270604T210000
DTEND;TZID=UTC:20270605T030000
DTSTAMP:20260421T114927
CREATED:20260306T223521Z
LAST-MODIFIED:20260306T223525Z
UID:10007655-1812142800-1812164400@www.davidatlanta.com
SUMMARY:First Fridays w. Ron Pullman
DESCRIPTION:Kick off First Fridays with music by none other than the legendary DJ Ron Pullman\, giving you current and classic house beats all night long.
URL:https://www.davidatlanta.com/event/first-fridays-w-ron-pullman/2027-06-04/
LOCATION:Atlanta Eagle
ATTACH;FMTTYPE=image/png:https://www.davidatlanta.com/wp-content/uploads/2026/03/Ron-Pullman-First-Fridays.png
END:VEVENT
BEGIN:VEVENT
DTSTART;TZID=UTC:20270702T210000
DTEND;TZID=UTC:20270703T030000
DTSTAMP:20260421T114927
CREATED:20260306T223521Z
LAST-MODIFIED:20260306T223525Z
UID:10007656-1814562000-1814583600@www.davidatlanta.com
SUMMARY:First Fridays w. Ron Pullman
DESCRIPTION:Kick off First Fridays with music by none other than the legendary DJ Ron Pullman\, giving you current and classic house beats all night long.
URL:https://www.davidatlanta.com/event/first-fridays-w-ron-pullman/2027-07-02/
LOCATION:Atlanta Eagle
ATTACH;FMTTYPE=image/png:https://www.davidatlanta.com/wp-content/uploads/2026/03/Ron-Pullman-First-Fridays.png
END:VEVENT
BEGIN:VEVENT
DTSTART;TZID=UTC:20270806T210000
DTEND;TZID=UTC:20270807T030000
DTSTAMP:20260421T114927
CREATED:20260306T223521Z
LAST-MODIFIED:20260306T223525Z
UID:10007657-1817586000-1817607600@www.davidatlanta.com
SUMMARY:First Fridays w. Ron Pullman
DESCRIPTION:Kick off First Fridays with music by none other than the legendary DJ Ron Pullman\, giving you current and classic house beats all night long.
URL:https://www.davidatlanta.com/event/first-fridays-w-ron-pullman/2027-08-06/
LOCATION:Atlanta Eagle
ATTACH;FMTTYPE=image/png:https://www.davidatlanta.com/wp-content/uploads/2026/03/Ron-Pullman-First-Fridays.png
END:VEVENT
BEGIN:VEVENT
DTSTART;TZID=UTC:20270903T210000
DTEND;TZID=UTC:20270904T030000
DTSTAMP:20260421T114927
CREATED:20260306T223521Z
LAST-MODIFIED:20260306T223525Z
UID:10007658-1820005200-1820026800@www.davidatlanta.com
SUMMARY:First Fridays w. Ron Pullman
DESCRIPTION:Kick off First Fridays with music by none other than the legendary DJ Ron Pullman\, giving you current and classic house beats all night long.
URL:https://www.davidatlanta.com/event/first-fridays-w-ron-pullman/2027-09-03/
LOCATION:Atlanta Eagle
ATTACH;FMTTYPE=image/png:https://www.davidatlanta.com/wp-content/uploads/2026/03/Ron-Pullman-First-Fridays.png
END:VEVENT
BEGIN:VEVENT
DTSTART;TZID=UTC:20271001T210000
DTEND;TZID=UTC:20271002T030000
DTSTAMP:20260421T114927
CREATED:20260306T223521Z
LAST-MODIFIED:20260306T223525Z
UID:10007659-1822424400-1822446000@www.davidatlanta.com
SUMMARY:First Fridays w. Ron Pullman
DESCRIPTION:Kick off First Fridays with music by none other than the legendary DJ Ron Pullman\, giving you current and classic house beats all night long.
URL:https://www.davidatlanta.com/event/first-fridays-w-ron-pullman/2027-10-01/
LOCATION:Atlanta Eagle
ATTACH;FMTTYPE=image/png:https://www.davidatlanta.com/wp-content/uploads/2026/03/Ron-Pullman-First-Fridays.png
END:VEVENT
BEGIN:VEVENT
DTSTART;TZID=UTC:20271105T210000
DTEND;TZID=UTC:20271106T030000
DTSTAMP:20260421T114927
CREATED:20260306T223521Z
LAST-MODIFIED:20260306T223525Z
UID:10007660-1825448400-1825470000@www.davidatlanta.com
SUMMARY:First Fridays w. Ron Pullman
DESCRIPTION:Kick off First Fridays with music by none other than the legendary DJ Ron Pullman\, giving you current and classic house beats all night long.
URL:https://www.davidatlanta.com/event/first-fridays-w-ron-pullman/2027-11-05/
LOCATION:Atlanta Eagle
ATTACH;FMTTYPE=image/png:https://www.davidatlanta.com/wp-content/uploads/2026/03/Ron-Pullman-First-Fridays.png
END:VEVENT
BEGIN:VEVENT
DTSTART;TZID=UTC:20271203T210000
DTEND;TZID=UTC:20271204T030000
DTSTAMP:20260421T114927
CREATED:20260306T223521Z
LAST-MODIFIED:20260306T223525Z
UID:10007661-1827867600-1827889200@www.davidatlanta.com
SUMMARY:First Fridays w. Ron Pullman
DESCRIPTION:Kick off First Fridays with music by none other than the legendary DJ Ron Pullman\, giving you current and classic house beats all night long.
URL:https://www.davidatlanta.com/event/first-fridays-w-ron-pullman/2027-12-03/
LOCATION:Atlanta Eagle
ATTACH;FMTTYPE=image/png:https://www.davidatlanta.com/wp-content/uploads/2026/03/Ron-Pullman-First-Fridays.png
END:VEVENT
BEGIN:VEVENT
DTSTART;TZID=UTC:20280107T210000
DTEND;TZID=UTC:20280108T030000
DTSTAMP:20260421T114927
CREATED:20260306T223521Z
LAST-MODIFIED:20260306T223525Z
UID:10007662-1830891600-1830913200@www.davidatlanta.com
SUMMARY:First Fridays w. Ron Pullman
DESCRIPTION:Kick off First Fridays with music by none other than the legendary DJ Ron Pullman\, giving you current and classic house beats all night long.
URL:https://www.davidatlanta.com/event/first-fridays-w-ron-pullman/2028-01-07/
LOCATION:Atlanta Eagle
ATTACH;FMTTYPE=image/png:https://www.davidatlanta.com/wp-content/uploads/2026/03/Ron-Pullman-First-Fridays.png
END:VEVENT
BEGIN:VEVENT
DTSTART;TZID=UTC:20280204T210000
DTEND;TZID=UTC:20280205T030000
DTSTAMP:20260421T114927
CREATED:20260306T223521Z
LAST-MODIFIED:20260306T223525Z
UID:10007663-1833310800-1833332400@www.davidatlanta.com
SUMMARY:First Fridays w. Ron Pullman
DESCRIPTION:Kick off First Fridays with music by none other than the legendary DJ Ron Pullman\, giving you current and classic house beats all night long.
URL:https://www.davidatlanta.com/event/first-fridays-w-ron-pullman/2028-02-04/
LOCATION:Atlanta Eagle
ATTACH;FMTTYPE=image/png:https://www.davidatlanta.com/wp-content/uploads/2026/03/Ron-Pullman-First-Fridays.png
END:VEVENT
BEGIN:VEVENT
DTSTART;TZID=UTC:20280303T210000
DTEND;TZID=UTC:20280304T030000
DTSTAMP:20260421T114927
CREATED:20260306T223521Z
LAST-MODIFIED:20260306T223525Z
UID:10007664-1835730000-1835751600@www.davidatlanta.com
SUMMARY:First Fridays w. Ron Pullman
DESCRIPTION:Kick off First Fridays with music by none other than the legendary DJ Ron Pullman\, giving you current and classic house beats all night long.
URL:https://www.davidatlanta.com/event/first-fridays-w-ron-pullman/2028-03-03/
LOCATION:Atlanta Eagle
ATTACH;FMTTYPE=image/png:https://www.davidatlanta.com/wp-content/uploads/2026/03/Ron-Pullman-First-Fridays.png
END:VEVENT
BEGIN:VEVENT
DTSTART;TZID=UTC:20280407T210000
DTEND;TZID=UTC:20280408T030000
DTSTAMP:20260421T114927
CREATED:20260306T223521Z
LAST-MODIFIED:20260306T223525Z
UID:10007665-1838754000-1838775600@www.davidatlanta.com
SUMMARY:First Fridays w. Ron Pullman
DESCRIPTION:Kick off First Fridays with music by none other than the legendary DJ Ron Pullman\, giving you current and classic house beats all night long.
URL:https://www.davidatlanta.com/event/first-fridays-w-ron-pullman/2028-04-07/
LOCATION:Atlanta Eagle
ATTACH;FMTTYPE=image/png:https://www.davidatlanta.com/wp-content/uploads/2026/03/Ron-Pullman-First-Fridays.png
END:VEVENT
BEGIN:VEVENT
DTSTART;TZID=UTC:20280505T210000
DTEND;TZID=UTC:20280506T030000
DTSTAMP:20260421T114927
CREATED:20260306T223521Z
LAST-MODIFIED:20260306T223525Z
UID:10007666-1841173200-1841194800@www.davidatlanta.com
SUMMARY:First Fridays w. Ron Pullman
DESCRIPTION:Kick off First Fridays with music by none other than the legendary DJ Ron Pullman\, giving you current and classic house beats all night long.
URL:https://www.davidatlanta.com/event/first-fridays-w-ron-pullman/2028-05-05/
LOCATION:Atlanta Eagle
ATTACH;FMTTYPE=image/png:https://www.davidatlanta.com/wp-content/uploads/2026/03/Ron-Pullman-First-Fridays.png
END:VEVENT
BEGIN:VEVENT
DTSTART;TZID=UTC:20280602T210000
DTEND;TZID=UTC:20280603T030000
DTSTAMP:20260421T114927
CREATED:20260306T223521Z
LAST-MODIFIED:20260306T223525Z
UID:10007667-1843592400-1843614000@www.davidatlanta.com
SUMMARY:First Fridays w. Ron Pullman
DESCRIPTION:Kick off First Fridays with music by none other than the legendary DJ Ron Pullman\, giving you current and classic house beats all night long.
URL:https://www.davidatlanta.com/event/first-fridays-w-ron-pullman/2028-06-02/
LOCATION:Atlanta Eagle
ATTACH;FMTTYPE=image/png:https://www.davidatlanta.com/wp-content/uploads/2026/03/Ron-Pullman-First-Fridays.png
END:VEVENT
BEGIN:VEVENT
DTSTART;TZID=UTC:20280707T210000
DTEND;TZID=UTC:20280708T030000
DTSTAMP:20260421T114927
CREATED:20260306T223521Z
LAST-MODIFIED:20260306T223525Z
UID:10007668-1846616400-1846638000@www.davidatlanta.com
SUMMARY:First Fridays w. Ron Pullman
DESCRIPTION:Kick off First Fridays with music by none other than the legendary DJ Ron Pullman\, giving you current and classic house beats all night long.
URL:https://www.davidatlanta.com/event/first-fridays-w-ron-pullman/2028-07-07/
LOCATION:Atlanta Eagle
ATTACH;FMTTYPE=image/png:https://www.davidatlanta.com/wp-content/uploads/2026/03/Ron-Pullman-First-Fridays.png
END:VEVENT
BEGIN:VEVENT
DTSTART;TZID=UTC:20280804T210000
DTEND;TZID=UTC:20280805T030000
DTSTAMP:20260421T114927
CREATED:20260306T223521Z
LAST-MODIFIED:20260306T223525Z
UID:10007669-1849035600-1849057200@www.davidatlanta.com
SUMMARY:First Fridays w. Ron Pullman
DESCRIPTION:Kick off First Fridays with music by none other than the legendary DJ Ron Pullman\, giving you current and classic house beats all night long.
URL:https://www.davidatlanta.com/event/first-fridays-w-ron-pullman/2028-08-04/
LOCATION:Atlanta Eagle
ATTACH;FMTTYPE=image/png:https://www.davidatlanta.com/wp-content/uploads/2026/03/Ron-Pullman-First-Fridays.png
END:VEVENT
BEGIN:VEVENT
DTSTART;TZID=UTC:20280901T210000
DTEND;TZID=UTC:20280902T030000
DTSTAMP:20260421T114927
CREATED:20260306T223521Z
LAST-MODIFIED:20260306T223525Z
UID:10007670-1851454800-1851476400@www.davidatlanta.com
SUMMARY:First Fridays w. Ron Pullman
DESCRIPTION:Kick off First Fridays with music by none other than the legendary DJ Ron Pullman\, giving you current and classic house beats all night long.
URL:https://www.davidatlanta.com/event/first-fridays-w-ron-pullman/2028-09-01/
LOCATION:Atlanta Eagle
ATTACH;FMTTYPE=image/png:https://www.davidatlanta.com/wp-content/uploads/2026/03/Ron-Pullman-First-Fridays.png
END:VEVENT
BEGIN:VEVENT
DTSTART;TZID=UTC:20281006T210000
DTEND;TZID=UTC:20281007T030000
DTSTAMP:20260421T114927
CREATED:20260306T223521Z
LAST-MODIFIED:20260306T223525Z
UID:10007671-1854478800-1854500400@www.davidatlanta.com
SUMMARY:First Fridays w. Ron Pullman
DESCRIPTION:Kick off First Fridays with music by none other than the legendary DJ Ron Pullman\, giving you current and classic house beats all night long.
URL:https://www.davidatlanta.com/event/first-fridays-w-ron-pullman/2028-10-06/
LOCATION:Atlanta Eagle
ATTACH;FMTTYPE=image/png:https://www.davidatlanta.com/wp-content/uploads/2026/03/Ron-Pullman-First-Fridays.png
END:VEVENT
END:VCALENDAR