BEGIN:VCALENDAR
VERSION:2.0
PRODID:-//David Magazine - ECPv6.15.17//NONSGML v1.0//EN
CALSCALE:GREGORIAN
METHOD:PUBLISH
X-WR-CALNAME:David Magazine
X-ORIGINAL-URL:https://www.davidatlanta.com
X-WR-CALDESC:Events for David Magazine
REFRESH-INTERVAL;VALUE=DURATION:PT1H
X-Robots-Tag:noindex
X-PUBLISHED-TTL:PT1H
BEGIN:VTIMEZONE
TZID:UTC
BEGIN:STANDARD
TZOFFSETFROM:+0000
TZOFFSETTO:+0000
TZNAME:UTC
DTSTART:20250101T000000
END:STANDARD
END:VTIMEZONE
BEGIN:VEVENT
DTSTART;TZID=UTC:20260427T080000
DTEND;TZID=UTC:20260427T170000
DTSTAMP:20260421T124702
CREATED:20260306T215320Z
LAST-MODIFIED:20260306T215323Z
UID:10007374-1777276800-1777309200@www.davidatlanta.com
SUMMARY:CODE Night
DESCRIPTION:CODE Night is coming to Atlanta Eagle  \n\n\n\nMondays upstairs from 9pm–2am.Leather\, rubber\, pups\, furries — gear up and come have some fun.$5 cover includes a drink ticket.First night: February 2\, 2026.21+ only. Bark on
URL:https://www.davidatlanta.com/event/code-night/2026-04-27/
LOCATION:Atlanta Eagle
ATTACH;FMTTYPE=image/jpeg:https://www.davidatlanta.com/wp-content/uploads/2026/03/Code-Night.jpg
END:VEVENT
BEGIN:VEVENT
DTSTART;TZID=UTC:20260504T080000
DTEND;TZID=UTC:20260504T170000
DTSTAMP:20260421T124702
CREATED:20260306T215320Z
LAST-MODIFIED:20260306T215323Z
UID:10007375-1777881600-1777914000@www.davidatlanta.com
SUMMARY:CODE Night
DESCRIPTION:CODE Night is coming to Atlanta Eagle  \n\n\n\nMondays upstairs from 9pm–2am.Leather\, rubber\, pups\, furries — gear up and come have some fun.$5 cover includes a drink ticket.First night: February 2\, 2026.21+ only. Bark on
URL:https://www.davidatlanta.com/event/code-night/2026-05-04/
LOCATION:Atlanta Eagle
ATTACH;FMTTYPE=image/jpeg:https://www.davidatlanta.com/wp-content/uploads/2026/03/Code-Night.jpg
END:VEVENT
BEGIN:VEVENT
DTSTART;TZID=UTC:20260511T080000
DTEND;TZID=UTC:20260511T170000
DTSTAMP:20260421T124702
CREATED:20260306T215320Z
LAST-MODIFIED:20260306T215323Z
UID:10007376-1778486400-1778518800@www.davidatlanta.com
SUMMARY:CODE Night
DESCRIPTION:CODE Night is coming to Atlanta Eagle  \n\n\n\nMondays upstairs from 9pm–2am.Leather\, rubber\, pups\, furries — gear up and come have some fun.$5 cover includes a drink ticket.First night: February 2\, 2026.21+ only. Bark on
URL:https://www.davidatlanta.com/event/code-night/2026-05-11/
LOCATION:Atlanta Eagle
ATTACH;FMTTYPE=image/jpeg:https://www.davidatlanta.com/wp-content/uploads/2026/03/Code-Night.jpg
END:VEVENT
BEGIN:VEVENT
DTSTART;TZID=UTC:20260518T080000
DTEND;TZID=UTC:20260518T170000
DTSTAMP:20260421T124702
CREATED:20260306T215320Z
LAST-MODIFIED:20260306T215323Z
UID:10007377-1779091200-1779123600@www.davidatlanta.com
SUMMARY:CODE Night
DESCRIPTION:CODE Night is coming to Atlanta Eagle  \n\n\n\nMondays upstairs from 9pm–2am.Leather\, rubber\, pups\, furries — gear up and come have some fun.$5 cover includes a drink ticket.First night: February 2\, 2026.21+ only. Bark on
URL:https://www.davidatlanta.com/event/code-night/2026-05-18/
LOCATION:Atlanta Eagle
ATTACH;FMTTYPE=image/jpeg:https://www.davidatlanta.com/wp-content/uploads/2026/03/Code-Night.jpg
END:VEVENT
BEGIN:VEVENT
DTSTART;TZID=UTC:20260525T080000
DTEND;TZID=UTC:20260525T170000
DTSTAMP:20260421T124702
CREATED:20260306T215320Z
LAST-MODIFIED:20260306T215323Z
UID:10007378-1779696000-1779728400@www.davidatlanta.com
SUMMARY:CODE Night
DESCRIPTION:CODE Night is coming to Atlanta Eagle  \n\n\n\nMondays upstairs from 9pm–2am.Leather\, rubber\, pups\, furries — gear up and come have some fun.$5 cover includes a drink ticket.First night: February 2\, 2026.21+ only. Bark on
URL:https://www.davidatlanta.com/event/code-night/2026-05-25/
LOCATION:Atlanta Eagle
ATTACH;FMTTYPE=image/jpeg:https://www.davidatlanta.com/wp-content/uploads/2026/03/Code-Night.jpg
END:VEVENT
BEGIN:VEVENT
DTSTART;TZID=UTC:20260601T080000
DTEND;TZID=UTC:20260601T170000
DTSTAMP:20260421T124702
CREATED:20260306T215320Z
LAST-MODIFIED:20260306T215323Z
UID:10007379-1780300800-1780333200@www.davidatlanta.com
SUMMARY:CODE Night
DESCRIPTION:CODE Night is coming to Atlanta Eagle  \n\n\n\nMondays upstairs from 9pm–2am.Leather\, rubber\, pups\, furries — gear up and come have some fun.$5 cover includes a drink ticket.First night: February 2\, 2026.21+ only. Bark on
URL:https://www.davidatlanta.com/event/code-night/2026-06-01/
LOCATION:Atlanta Eagle
ATTACH;FMTTYPE=image/jpeg:https://www.davidatlanta.com/wp-content/uploads/2026/03/Code-Night.jpg
END:VEVENT
BEGIN:VEVENT
DTSTART;TZID=UTC:20260608T080000
DTEND;TZID=UTC:20260608T170000
DTSTAMP:20260421T124702
CREATED:20260306T215320Z
LAST-MODIFIED:20260306T215323Z
UID:10007380-1780905600-1780938000@www.davidatlanta.com
SUMMARY:CODE Night
DESCRIPTION:CODE Night is coming to Atlanta Eagle  \n\n\n\nMondays upstairs from 9pm–2am.Leather\, rubber\, pups\, furries — gear up and come have some fun.$5 cover includes a drink ticket.First night: February 2\, 2026.21+ only. Bark on
URL:https://www.davidatlanta.com/event/code-night/2026-06-08/
LOCATION:Atlanta Eagle
ATTACH;FMTTYPE=image/jpeg:https://www.davidatlanta.com/wp-content/uploads/2026/03/Code-Night.jpg
END:VEVENT
BEGIN:VEVENT
DTSTART;TZID=UTC:20260615T080000
DTEND;TZID=UTC:20260615T170000
DTSTAMP:20260421T124702
CREATED:20260306T215320Z
LAST-MODIFIED:20260306T215323Z
UID:10007381-1781510400-1781542800@www.davidatlanta.com
SUMMARY:CODE Night
DESCRIPTION:CODE Night is coming to Atlanta Eagle  \n\n\n\nMondays upstairs from 9pm–2am.Leather\, rubber\, pups\, furries — gear up and come have some fun.$5 cover includes a drink ticket.First night: February 2\, 2026.21+ only. Bark on
URL:https://www.davidatlanta.com/event/code-night/2026-06-15/
LOCATION:Atlanta Eagle
ATTACH;FMTTYPE=image/jpeg:https://www.davidatlanta.com/wp-content/uploads/2026/03/Code-Night.jpg
END:VEVENT
BEGIN:VEVENT
DTSTART;TZID=UTC:20260622T080000
DTEND;TZID=UTC:20260622T170000
DTSTAMP:20260421T124702
CREATED:20260306T215320Z
LAST-MODIFIED:20260306T215323Z
UID:10007382-1782115200-1782147600@www.davidatlanta.com
SUMMARY:CODE Night
DESCRIPTION:CODE Night is coming to Atlanta Eagle  \n\n\n\nMondays upstairs from 9pm–2am.Leather\, rubber\, pups\, furries — gear up and come have some fun.$5 cover includes a drink ticket.First night: February 2\, 2026.21+ only. Bark on
URL:https://www.davidatlanta.com/event/code-night/2026-06-22/
LOCATION:Atlanta Eagle
ATTACH;FMTTYPE=image/jpeg:https://www.davidatlanta.com/wp-content/uploads/2026/03/Code-Night.jpg
END:VEVENT
BEGIN:VEVENT
DTSTART;TZID=UTC:20260629T080000
DTEND;TZID=UTC:20260629T170000
DTSTAMP:20260421T124702
CREATED:20260306T215320Z
LAST-MODIFIED:20260306T215323Z
UID:10007383-1782720000-1782752400@www.davidatlanta.com
SUMMARY:CODE Night
DESCRIPTION:CODE Night is coming to Atlanta Eagle  \n\n\n\nMondays upstairs from 9pm–2am.Leather\, rubber\, pups\, furries — gear up and come have some fun.$5 cover includes a drink ticket.First night: February 2\, 2026.21+ only. Bark on
URL:https://www.davidatlanta.com/event/code-night/2026-06-29/
LOCATION:Atlanta Eagle
ATTACH;FMTTYPE=image/jpeg:https://www.davidatlanta.com/wp-content/uploads/2026/03/Code-Night.jpg
END:VEVENT
BEGIN:VEVENT
DTSTART;TZID=UTC:20260706T080000
DTEND;TZID=UTC:20260706T170000
DTSTAMP:20260421T124702
CREATED:20260306T215320Z
LAST-MODIFIED:20260306T215323Z
UID:10007384-1783324800-1783357200@www.davidatlanta.com
SUMMARY:CODE Night
DESCRIPTION:CODE Night is coming to Atlanta Eagle  \n\n\n\nMondays upstairs from 9pm–2am.Leather\, rubber\, pups\, furries — gear up and come have some fun.$5 cover includes a drink ticket.First night: February 2\, 2026.21+ only. Bark on
URL:https://www.davidatlanta.com/event/code-night/2026-07-06/
LOCATION:Atlanta Eagle
ATTACH;FMTTYPE=image/jpeg:https://www.davidatlanta.com/wp-content/uploads/2026/03/Code-Night.jpg
END:VEVENT
BEGIN:VEVENT
DTSTART;TZID=UTC:20260713T080000
DTEND;TZID=UTC:20260713T170000
DTSTAMP:20260421T124702
CREATED:20260306T215320Z
LAST-MODIFIED:20260306T215323Z
UID:10007385-1783929600-1783962000@www.davidatlanta.com
SUMMARY:CODE Night
DESCRIPTION:CODE Night is coming to Atlanta Eagle  \n\n\n\nMondays upstairs from 9pm–2am.Leather\, rubber\, pups\, furries — gear up and come have some fun.$5 cover includes a drink ticket.First night: February 2\, 2026.21+ only. Bark on
URL:https://www.davidatlanta.com/event/code-night/2026-07-13/
LOCATION:Atlanta Eagle
ATTACH;FMTTYPE=image/jpeg:https://www.davidatlanta.com/wp-content/uploads/2026/03/Code-Night.jpg
END:VEVENT
BEGIN:VEVENT
DTSTART;TZID=UTC:20260720T080000
DTEND;TZID=UTC:20260720T170000
DTSTAMP:20260421T124702
CREATED:20260306T215320Z
LAST-MODIFIED:20260306T215323Z
UID:10007386-1784534400-1784566800@www.davidatlanta.com
SUMMARY:CODE Night
DESCRIPTION:CODE Night is coming to Atlanta Eagle  \n\n\n\nMondays upstairs from 9pm–2am.Leather\, rubber\, pups\, furries — gear up and come have some fun.$5 cover includes a drink ticket.First night: February 2\, 2026.21+ only. Bark on
URL:https://www.davidatlanta.com/event/code-night/2026-07-20/
LOCATION:Atlanta Eagle
ATTACH;FMTTYPE=image/jpeg:https://www.davidatlanta.com/wp-content/uploads/2026/03/Code-Night.jpg
END:VEVENT
BEGIN:VEVENT
DTSTART;TZID=UTC:20260727T080000
DTEND;TZID=UTC:20260727T170000
DTSTAMP:20260421T124702
CREATED:20260306T215320Z
LAST-MODIFIED:20260306T215323Z
UID:10007387-1785139200-1785171600@www.davidatlanta.com
SUMMARY:CODE Night
DESCRIPTION:CODE Night is coming to Atlanta Eagle  \n\n\n\nMondays upstairs from 9pm–2am.Leather\, rubber\, pups\, furries — gear up and come have some fun.$5 cover includes a drink ticket.First night: February 2\, 2026.21+ only. Bark on
URL:https://www.davidatlanta.com/event/code-night/2026-07-27/
LOCATION:Atlanta Eagle
ATTACH;FMTTYPE=image/jpeg:https://www.davidatlanta.com/wp-content/uploads/2026/03/Code-Night.jpg
END:VEVENT
BEGIN:VEVENT
DTSTART;TZID=UTC:20260803T080000
DTEND;TZID=UTC:20260803T170000
DTSTAMP:20260421T124702
CREATED:20260306T215320Z
LAST-MODIFIED:20260306T215323Z
UID:10007388-1785744000-1785776400@www.davidatlanta.com
SUMMARY:CODE Night
DESCRIPTION:CODE Night is coming to Atlanta Eagle  \n\n\n\nMondays upstairs from 9pm–2am.Leather\, rubber\, pups\, furries — gear up and come have some fun.$5 cover includes a drink ticket.First night: February 2\, 2026.21+ only. Bark on
URL:https://www.davidatlanta.com/event/code-night/2026-08-03/
LOCATION:Atlanta Eagle
ATTACH;FMTTYPE=image/jpeg:https://www.davidatlanta.com/wp-content/uploads/2026/03/Code-Night.jpg
END:VEVENT
BEGIN:VEVENT
DTSTART;TZID=UTC:20260810T080000
DTEND;TZID=UTC:20260810T170000
DTSTAMP:20260421T124702
CREATED:20260306T215320Z
LAST-MODIFIED:20260306T215323Z
UID:10007389-1786348800-1786381200@www.davidatlanta.com
SUMMARY:CODE Night
DESCRIPTION:CODE Night is coming to Atlanta Eagle  \n\n\n\nMondays upstairs from 9pm–2am.Leather\, rubber\, pups\, furries — gear up and come have some fun.$5 cover includes a drink ticket.First night: February 2\, 2026.21+ only. Bark on
URL:https://www.davidatlanta.com/event/code-night/2026-08-10/
LOCATION:Atlanta Eagle
ATTACH;FMTTYPE=image/jpeg:https://www.davidatlanta.com/wp-content/uploads/2026/03/Code-Night.jpg
END:VEVENT
BEGIN:VEVENT
DTSTART;TZID=UTC:20260817T080000
DTEND;TZID=UTC:20260817T170000
DTSTAMP:20260421T124703
CREATED:20260306T215320Z
LAST-MODIFIED:20260306T215323Z
UID:10007390-1786953600-1786986000@www.davidatlanta.com
SUMMARY:CODE Night
DESCRIPTION:CODE Night is coming to Atlanta Eagle  \n\n\n\nMondays upstairs from 9pm–2am.Leather\, rubber\, pups\, furries — gear up and come have some fun.$5 cover includes a drink ticket.First night: February 2\, 2026.21+ only. Bark on
URL:https://www.davidatlanta.com/event/code-night/2026-08-17/
LOCATION:Atlanta Eagle
ATTACH;FMTTYPE=image/jpeg:https://www.davidatlanta.com/wp-content/uploads/2026/03/Code-Night.jpg
END:VEVENT
BEGIN:VEVENT
DTSTART;TZID=UTC:20260824T080000
DTEND;TZID=UTC:20260824T170000
DTSTAMP:20260421T124703
CREATED:20260306T215320Z
LAST-MODIFIED:20260306T215323Z
UID:10007391-1787558400-1787590800@www.davidatlanta.com
SUMMARY:CODE Night
DESCRIPTION:CODE Night is coming to Atlanta Eagle  \n\n\n\nMondays upstairs from 9pm–2am.Leather\, rubber\, pups\, furries — gear up and come have some fun.$5 cover includes a drink ticket.First night: February 2\, 2026.21+ only. Bark on
URL:https://www.davidatlanta.com/event/code-night/2026-08-24/
LOCATION:Atlanta Eagle
ATTACH;FMTTYPE=image/jpeg:https://www.davidatlanta.com/wp-content/uploads/2026/03/Code-Night.jpg
END:VEVENT
BEGIN:VEVENT
DTSTART;TZID=UTC:20260831T080000
DTEND;TZID=UTC:20260831T170000
DTSTAMP:20260421T124703
CREATED:20260306T215320Z
LAST-MODIFIED:20260306T215323Z
UID:10007392-1788163200-1788195600@www.davidatlanta.com
SUMMARY:CODE Night
DESCRIPTION:CODE Night is coming to Atlanta Eagle  \n\n\n\nMondays upstairs from 9pm–2am.Leather\, rubber\, pups\, furries — gear up and come have some fun.$5 cover includes a drink ticket.First night: February 2\, 2026.21+ only. Bark on
URL:https://www.davidatlanta.com/event/code-night/2026-08-31/
LOCATION:Atlanta Eagle
ATTACH;FMTTYPE=image/jpeg:https://www.davidatlanta.com/wp-content/uploads/2026/03/Code-Night.jpg
END:VEVENT
BEGIN:VEVENT
DTSTART;TZID=UTC:20260907T080000
DTEND;TZID=UTC:20260907T170000
DTSTAMP:20260421T124703
CREATED:20260306T215320Z
LAST-MODIFIED:20260306T215323Z
UID:10007393-1788768000-1788800400@www.davidatlanta.com
SUMMARY:CODE Night
DESCRIPTION:CODE Night is coming to Atlanta Eagle  \n\n\n\nMondays upstairs from 9pm–2am.Leather\, rubber\, pups\, furries — gear up and come have some fun.$5 cover includes a drink ticket.First night: February 2\, 2026.21+ only. Bark on
URL:https://www.davidatlanta.com/event/code-night/2026-09-07/
LOCATION:Atlanta Eagle
ATTACH;FMTTYPE=image/jpeg:https://www.davidatlanta.com/wp-content/uploads/2026/03/Code-Night.jpg
END:VEVENT
BEGIN:VEVENT
DTSTART;TZID=UTC:20260914T080000
DTEND;TZID=UTC:20260914T170000
DTSTAMP:20260421T124703
CREATED:20260306T215320Z
LAST-MODIFIED:20260306T215323Z
UID:10007394-1789372800-1789405200@www.davidatlanta.com
SUMMARY:CODE Night
DESCRIPTION:CODE Night is coming to Atlanta Eagle  \n\n\n\nMondays upstairs from 9pm–2am.Leather\, rubber\, pups\, furries — gear up and come have some fun.$5 cover includes a drink ticket.First night: February 2\, 2026.21+ only. Bark on
URL:https://www.davidatlanta.com/event/code-night/2026-09-14/
LOCATION:Atlanta Eagle
ATTACH;FMTTYPE=image/jpeg:https://www.davidatlanta.com/wp-content/uploads/2026/03/Code-Night.jpg
END:VEVENT
BEGIN:VEVENT
DTSTART;TZID=UTC:20260921T080000
DTEND;TZID=UTC:20260921T170000
DTSTAMP:20260421T124703
CREATED:20260306T215320Z
LAST-MODIFIED:20260306T215323Z
UID:10007395-1789977600-1790010000@www.davidatlanta.com
SUMMARY:CODE Night
DESCRIPTION:CODE Night is coming to Atlanta Eagle  \n\n\n\nMondays upstairs from 9pm–2am.Leather\, rubber\, pups\, furries — gear up and come have some fun.$5 cover includes a drink ticket.First night: February 2\, 2026.21+ only. Bark on
URL:https://www.davidatlanta.com/event/code-night/2026-09-21/
LOCATION:Atlanta Eagle
ATTACH;FMTTYPE=image/jpeg:https://www.davidatlanta.com/wp-content/uploads/2026/03/Code-Night.jpg
END:VEVENT
BEGIN:VEVENT
DTSTART;TZID=UTC:20260928T080000
DTEND;TZID=UTC:20260928T170000
DTSTAMP:20260421T124703
CREATED:20260306T215320Z
LAST-MODIFIED:20260306T215323Z
UID:10007396-1790582400-1790614800@www.davidatlanta.com
SUMMARY:CODE Night
DESCRIPTION:CODE Night is coming to Atlanta Eagle  \n\n\n\nMondays upstairs from 9pm–2am.Leather\, rubber\, pups\, furries — gear up and come have some fun.$5 cover includes a drink ticket.First night: February 2\, 2026.21+ only. Bark on
URL:https://www.davidatlanta.com/event/code-night/2026-09-28/
LOCATION:Atlanta Eagle
ATTACH;FMTTYPE=image/jpeg:https://www.davidatlanta.com/wp-content/uploads/2026/03/Code-Night.jpg
END:VEVENT
BEGIN:VEVENT
DTSTART;TZID=UTC:20261005T080000
DTEND;TZID=UTC:20261005T170000
DTSTAMP:20260421T124703
CREATED:20260306T215320Z
LAST-MODIFIED:20260306T215323Z
UID:10007397-1791187200-1791219600@www.davidatlanta.com
SUMMARY:CODE Night
DESCRIPTION:CODE Night is coming to Atlanta Eagle  \n\n\n\nMondays upstairs from 9pm–2am.Leather\, rubber\, pups\, furries — gear up and come have some fun.$5 cover includes a drink ticket.First night: February 2\, 2026.21+ only. Bark on
URL:https://www.davidatlanta.com/event/code-night/2026-10-05/
LOCATION:Atlanta Eagle
ATTACH;FMTTYPE=image/jpeg:https://www.davidatlanta.com/wp-content/uploads/2026/03/Code-Night.jpg
END:VEVENT
BEGIN:VEVENT
DTSTART;TZID=UTC:20261012T080000
DTEND;TZID=UTC:20261012T170000
DTSTAMP:20260421T124703
CREATED:20260306T215320Z
LAST-MODIFIED:20260306T215323Z
UID:10007398-1791792000-1791824400@www.davidatlanta.com
SUMMARY:CODE Night
DESCRIPTION:CODE Night is coming to Atlanta Eagle  \n\n\n\nMondays upstairs from 9pm–2am.Leather\, rubber\, pups\, furries — gear up and come have some fun.$5 cover includes a drink ticket.First night: February 2\, 2026.21+ only. Bark on
URL:https://www.davidatlanta.com/event/code-night/2026-10-12/
LOCATION:Atlanta Eagle
ATTACH;FMTTYPE=image/jpeg:https://www.davidatlanta.com/wp-content/uploads/2026/03/Code-Night.jpg
END:VEVENT
BEGIN:VEVENT
DTSTART;TZID=UTC:20261019T080000
DTEND;TZID=UTC:20261019T170000
DTSTAMP:20260421T124703
CREATED:20260306T215320Z
LAST-MODIFIED:20260306T215323Z
UID:10007399-1792396800-1792429200@www.davidatlanta.com
SUMMARY:CODE Night
DESCRIPTION:CODE Night is coming to Atlanta Eagle  \n\n\n\nMondays upstairs from 9pm–2am.Leather\, rubber\, pups\, furries — gear up and come have some fun.$5 cover includes a drink ticket.First night: February 2\, 2026.21+ only. Bark on
URL:https://www.davidatlanta.com/event/code-night/2026-10-19/
LOCATION:Atlanta Eagle
ATTACH;FMTTYPE=image/jpeg:https://www.davidatlanta.com/wp-content/uploads/2026/03/Code-Night.jpg
END:VEVENT
BEGIN:VEVENT
DTSTART;TZID=UTC:20261026T080000
DTEND;TZID=UTC:20261026T170000
DTSTAMP:20260421T124703
CREATED:20260306T215320Z
LAST-MODIFIED:20260306T215323Z
UID:10007400-1793001600-1793034000@www.davidatlanta.com
SUMMARY:CODE Night
DESCRIPTION:CODE Night is coming to Atlanta Eagle  \n\n\n\nMondays upstairs from 9pm–2am.Leather\, rubber\, pups\, furries — gear up and come have some fun.$5 cover includes a drink ticket.First night: February 2\, 2026.21+ only. Bark on
URL:https://www.davidatlanta.com/event/code-night/2026-10-26/
LOCATION:Atlanta Eagle
ATTACH;FMTTYPE=image/jpeg:https://www.davidatlanta.com/wp-content/uploads/2026/03/Code-Night.jpg
END:VEVENT
BEGIN:VEVENT
DTSTART;TZID=UTC:20261102T080000
DTEND;TZID=UTC:20261102T170000
DTSTAMP:20260421T124703
CREATED:20260306T215320Z
LAST-MODIFIED:20260306T215323Z
UID:10007401-1793606400-1793638800@www.davidatlanta.com
SUMMARY:CODE Night
DESCRIPTION:CODE Night is coming to Atlanta Eagle  \n\n\n\nMondays upstairs from 9pm–2am.Leather\, rubber\, pups\, furries — gear up and come have some fun.$5 cover includes a drink ticket.First night: February 2\, 2026.21+ only. Bark on
URL:https://www.davidatlanta.com/event/code-night/2026-11-02/
LOCATION:Atlanta Eagle
ATTACH;FMTTYPE=image/jpeg:https://www.davidatlanta.com/wp-content/uploads/2026/03/Code-Night.jpg
END:VEVENT
BEGIN:VEVENT
DTSTART;TZID=UTC:20261109T080000
DTEND;TZID=UTC:20261109T170000
DTSTAMP:20260421T124703
CREATED:20260306T215320Z
LAST-MODIFIED:20260306T215323Z
UID:10007402-1794211200-1794243600@www.davidatlanta.com
SUMMARY:CODE Night
DESCRIPTION:CODE Night is coming to Atlanta Eagle  \n\n\n\nMondays upstairs from 9pm–2am.Leather\, rubber\, pups\, furries — gear up and come have some fun.$5 cover includes a drink ticket.First night: February 2\, 2026.21+ only. Bark on
URL:https://www.davidatlanta.com/event/code-night/2026-11-09/
LOCATION:Atlanta Eagle
ATTACH;FMTTYPE=image/jpeg:https://www.davidatlanta.com/wp-content/uploads/2026/03/Code-Night.jpg
END:VEVENT
BEGIN:VEVENT
DTSTART;TZID=UTC:20261116T080000
DTEND;TZID=UTC:20261116T170000
DTSTAMP:20260421T124703
CREATED:20260306T215320Z
LAST-MODIFIED:20260306T215323Z
UID:10007403-1794816000-1794848400@www.davidatlanta.com
SUMMARY:CODE Night
DESCRIPTION:CODE Night is coming to Atlanta Eagle  \n\n\n\nMondays upstairs from 9pm–2am.Leather\, rubber\, pups\, furries — gear up and come have some fun.$5 cover includes a drink ticket.First night: February 2\, 2026.21+ only. Bark on
URL:https://www.davidatlanta.com/event/code-night/2026-11-16/
LOCATION:Atlanta Eagle
ATTACH;FMTTYPE=image/jpeg:https://www.davidatlanta.com/wp-content/uploads/2026/03/Code-Night.jpg
END:VEVENT
END:VCALENDAR