BEGIN:VCALENDAR
VERSION:2.0
PRODID:-//David Magazine - ECPv6.15.17//NONSGML v1.0//EN
CALSCALE:GREGORIAN
METHOD:PUBLISH
X-ORIGINAL-URL:https://www.davidatlanta.com
X-WR-CALDESC:Events for David Magazine
REFRESH-INTERVAL;VALUE=DURATION:PT1H
X-Robots-Tag:noindex
X-PUBLISHED-TTL:PT1H
BEGIN:VTIMEZONE
TZID:UTC
BEGIN:STANDARD
TZOFFSETFROM:+0000
TZOFFSETTO:+0000
TZNAME:UTC
DTSTART:20250101T000000
END:STANDARD
END:VTIMEZONE
BEGIN:VEVENT
DTSTART;TZID=UTC:20260311T220000
DTEND;TZID=UTC:20260312T020000
DTSTAMP:20260420T083539
CREATED:20250124T215219Z
LAST-MODIFIED:20250124T215219Z
UID:10004004-1773266400-1773280800@www.davidatlanta.com
SUMMARY:UnderWear Night at the Eagle
DESCRIPTION:Every Wednesday. Clothes check available.
URL:https://www.davidatlanta.com/event/underwear-night-at-the-eagle/2026-03-11/
LOCATION:Atlanta Eagle
ATTACH;FMTTYPE=image/jpeg:https://www.davidatlanta.com/wp-content/uploads/2025/01/underwear-night-eagle.jpg
END:VEVENT
BEGIN:VEVENT
DTSTART;TZID=UTC:20260312T193000
DTEND;TZID=UTC:20260312T230000
DTSTAMP:20260420T083539
CREATED:20231117T210952Z
LAST-MODIFIED:20231117T211239Z
UID:10001718-1773343800-1773356400@www.davidatlanta.com
SUMMARY:THE DIVAS!
DESCRIPTION:Fierce\, Fabulous\, and Flawless! A show like no other!The night when all the stars come out!Hosted by Brigitte Bidet! \nSeating between 7-7:30PM\n$32 per person\nReservations are required.
URL:https://www.davidatlanta.com/event/the-divas/2026-03-12/
LOCATION:Lips Atlanta
ATTACH;FMTTYPE=image/webp:https://www.davidatlanta.com/wp-content/uploads/2023/11/LipsATL_DIVAS_FACEBOOK_JPG.webp
END:VEVENT
BEGIN:VEVENT
DTSTART;TZID=UTC:20260312T200000
DTEND;TZID=UTC:20260312T230000
DTSTAMP:20260420T083539
CREATED:20240111T225449Z
LAST-MODIFIED:20240111T225449Z
UID:10003326-1773345600-1773356400@www.davidatlanta.com
SUMMARY:Heretic Country
DESCRIPTION:Heretic Country Every Thursday Night No Cover Free Lessons 8pm Beginners Always Welcome!!
URL:https://www.davidatlanta.com/event/heretic-country/2026-03-12/
LOCATION:Heretic Atlanta
ATTACH;FMTTYPE=image/jpeg:https://www.davidatlanta.com/wp-content/uploads/2024/01/Country-night.jpeg
END:VEVENT
BEGIN:VEVENT
DTSTART;TZID=UTC:20260312T210000
DTEND;TZID=UTC:20260312T230000
DTSTAMP:20260420T083539
CREATED:20250328T205330Z
LAST-MODIFIED:20250328T205418Z
UID:10004385-1773349200-1773356400@www.davidatlanta.com
SUMMARY:RAQI’ ROCK HAUS KARAOKE
DESCRIPTION:Atlanta Eagle presenta “Rock Haus Karaoke” Hosted by Raqi. A Fresh face in Atlanta originally from Hawaii\, giving Midtown a Breathe of Fresh Air Every Thursdays at 9pm. Upstairs in the Mr. Charlie Brown Cabaret Room of The Atlanta Eagle. With a Spectacular Atmosphere\, Friendly Bartenders\, Always Cocktail Specials and Giveaways\, Atlanta Eagle is the Spot to be !
URL:https://www.davidatlanta.com/event/raqi-rock-haus-karaoke/2026-03-12/
LOCATION:Atlanta Eagle
ATTACH;FMTTYPE=image/jpeg:https://www.davidatlanta.com/wp-content/uploads/2025/03/IMG_1845.jpeg
END:VEVENT
BEGIN:VEVENT
DTSTART;TZID=UTC:20260312T230000
DTEND;TZID=UTC:20260312T235900
DTSTAMP:20260420T083539
CREATED:20231109T210950Z
LAST-MODIFIED:20231109T210950Z
UID:10010921-1773356400-1773359940@www.davidatlanta.com
SUMMARY:Atlanta's Angels
DESCRIPTION:EVERY Thursday night! The return of the “Atlanta Angels” at Blake’s On The Park – And this time\, we’re here to stay. Showtime is 11 pm! Hosted by Brigitte Bidet and with Lena Lust\, Cici Nicole. Phoenix\, and special guests.
URL:https://www.davidatlanta.com/event/atlantas-angels/2026-03-12/
LOCATION:Blake’s On the Park
ATTACH;FMTTYPE=image/jpeg:https://www.davidatlanta.com/wp-content/uploads/2023/11/Blakes-Angels.jpeg
END:VEVENT
BEGIN:VEVENT
DTSTART;TZID=UTC:20260313T193000
DTEND;TZID=UTC:20260313T233000
DTSTAMP:20260420T083539
CREATED:20231117T211155Z
LAST-MODIFIED:20231117T211155Z
UID:10001980-1773430200-1773444600@www.davidatlanta.com
SUMMARY:GLITZ & GLAM
DESCRIPTION:Our Friday night shows are filled with over-the-top glamour! Big hair\, high heels\, and a lot of duct tape! Hosted by Brigitte Bidet. \nTwo Seatings\n7:00PM 9:45PM \n$46 Per Person\nAny questions or concerns\, please inquire with management.  Reservations are required.
URL:https://www.davidatlanta.com/event/glitz-glam/2026-03-13/
LOCATION:Lips Atlanta
ATTACH;FMTTYPE=image/webp:https://www.davidatlanta.com/wp-content/uploads/2023/11/Gglipsbbfriday_1-scaled.webp
END:VEVENT
BEGIN:VEVENT
DTSTART;TZID=UTC:20260313T200000
DTEND;TZID=UTC:20260313T230000
DTSTAMP:20260420T083539
CREATED:20231214T223715Z
LAST-MODIFIED:20231214T223715Z
UID:10003045-1773432000-1773442800@www.davidatlanta.com
SUMMARY:Myah Ross Monroe's House Of Love
DESCRIPTION:Table Reservations available at reservations@atlantaeagle.com
URL:https://www.davidatlanta.com/event/myah-ross-monroes-house-of-love/2026-03-13/
LOCATION:Atlanta Eagle
ATTACH;FMTTYPE=image/jpeg:https://www.davidatlanta.com/wp-content/uploads/2023/12/House-of-love.jpeg
END:VEVENT
BEGIN:VEVENT
DTSTART;TZID=UTC:20260313T210000
DTEND;TZID=UTC:20260313T230000
DTSTAMP:20260420T083539
CREATED:20231109T212023Z
LAST-MODIFIED:20231109T212023Z
UID:10000397-1773435600-1773442800@www.davidatlanta.com
SUMMARY:Disco Dollz
DESCRIPTION:Disco Dollz is the perfect place to celebrate any occasion! We have table seating with a fun atmosphere\, yummy food\, great drinks\, and some of the best drag in the south!\nWe recommend you get tickets in advance at www.future-atlanta.com
URL:https://www.davidatlanta.com/event/disco-dollz/2026-03-13/
LOCATION:Future Atlanta
ATTACH;FMTTYPE=image/jpeg:https://www.davidatlanta.com/wp-content/uploads/2023/11/Disco-Dolls.jpeg
END:VEVENT
BEGIN:VEVENT
DTSTART;TZID=UTC:20260313T210000
DTEND;TZID=UTC:20260313T230000
DTSTAMP:20260420T083539
CREATED:20250418T020128Z
LAST-MODIFIED:20250418T020128Z
UID:10004455-1773435600-1773442800@www.davidatlanta.com
SUMMARY:The Other Show: Friday Drag Cabaret
DESCRIPTION:Every Friday night\, catch Edie Cheezburger and her cast of drag performers!\nAtlanta’s favorite Friday night drag cabaret is back! Catch the The Other Show upstairs at LORE on Edgewood Avenue every Friday night!\nShowtime at 9pm SHARP!\nTickets Here\nThe Other Show Cast:Edie CheezburgerBoudreauxOrchidTaejah ThomasTugboat\nFor guaranteed seating\, you must reserve a table.General Admission is standing room only – upstairs at Lore.\nThank you to our community partner at Team Bedgood REALTORS ! \nSee less
URL:https://www.davidatlanta.com/event/the-other-show-friday-drag-cabaret/2026-03-13/
LOCATION:Lore Atlanta
ATTACH;FMTTYPE=image/jpeg:https://www.davidatlanta.com/wp-content/uploads/2025/04/the-other-show-lore.jpg
END:VEVENT
BEGIN:VEVENT
DTSTART;TZID=UTC:20260313T210000
DTEND;TZID=UTC:20260314T030000
DTSTAMP:20260420T083539
CREATED:20260306T223737Z
LAST-MODIFIED:20260306T223740Z
UID:10007700-1773435600-1773457200@www.davidatlanta.com
SUMMARY:IGNITION
DESCRIPTION:Get ready to ignite the dance floor!  \n\n\n\nJoin us at the Atlanta Eagle on Friday\, March 13 for IGNITION! We’re bringing you a heavy-hitting night of Electro\, House\, and Techno. \n\n\n\n When: Friday\, March 13 Where: 1492 Piedmont Ave NE \n\n\n\nThe Lineup: \n\n\n\n 9:00 PM: Opening Set by Devon Rex \n\n\n\n 11:00 PM: Main Set by DJ Moose \n\n\n\nDoor Details: \n\n\n\n 8:00 PM: $8 Cover begins \n\n\n\n 10:00 PM: $10 Cover begins \n\n\n\n Age: 21+ \n\n\n\nSee you under the lights!  \n\n\n\n#AtlantaEagle #Ignition #DJMoose #DevonRex #AtlantaNightlife #Techno #HouseMusic
URL:https://www.davidatlanta.com/event/ignition/
LOCATION:Atlanta Eagle
ATTACH;FMTTYPE=image/jpeg:https://www.davidatlanta.com/wp-content/uploads/2026/03/Ignition.jpg
END:VEVENT
BEGIN:VEVENT
DTSTART;TZID=UTC:20260313T221500
DTEND;TZID=UTC:20260313T233000
DTSTAMP:20260420T083539
CREATED:20231117T205616Z
LAST-MODIFIED:20231117T205616Z
UID:10000934-1773440100-1773444600@www.davidatlanta.com
SUMMARY:Fierce Fridays
DESCRIPTION:Start the weekend off right with the stellar cast of Fierce Fridays!
URL:https://www.davidatlanta.com/event/fierce-fridays/2026-03-13/
LOCATION:X Midtown
ATTACH;FMTTYPE=image/jpeg:https://www.davidatlanta.com/wp-content/uploads/2023/11/X-midtown-fierce.jpeg
END:VEVENT
BEGIN:VEVENT
DTSTART;TZID=UTC:20260314T180000
DTEND;TZID=UTC:20260314T233000
DTSTAMP:20260420T083539
CREATED:20231117T211546Z
LAST-MODIFIED:20251030T152038Z
UID:10002243-1773511200-1773531000@www.davidatlanta.com
SUMMARY:GLITZ & GLAM ENCORE
DESCRIPTION:Even MORE over-the-top glamour! Hosted by Taejah Thomas. \nTWO SHOWS!\n1st Seating 6:00 PM\n2nd Seating 8:45 PM  \n$46 Dinner & Show package per person. \nIf you have any questions or concerns\, please get in touch with management.  \nReservations are required.
URL:https://www.davidatlanta.com/event/glitz-glam-encore/2026-03-14/
LOCATION:Lips Atlanta
ATTACH;FMTTYPE=image/webp:https://www.davidatlanta.com/wp-content/uploads/2023/11/GgTaejahsaturday-.webp
END:VEVENT
BEGIN:VEVENT
DTSTART;TZID=UTC:20260314T210000
DTEND;TZID=UTC:20260314T230000
DTSTAMP:20260420T083539
CREATED:20240426T200556Z
LAST-MODIFIED:20240426T200556Z
UID:10003677-1773522000-1773529200@www.davidatlanta.com
SUMMARY:Atlanta Eagle Cabaret
DESCRIPTION:Come to the cabaret every Saturday at the Eagle\, starring Lena Lust\, Shawnna Brooks\, Misti Shores\, Elea Atlanta\, Niesha Dupree\, and Bubba Dee.
URL:https://www.davidatlanta.com/event/atlanta-eagle-cabaret/2026-03-14/
LOCATION:Atlanta Eagle
ATTACH;FMTTYPE=image/jpeg:https://www.davidatlanta.com/wp-content/uploads/2024/04/Atlanta-Cabaret.jpeg
END:VEVENT
BEGIN:VEVENT
DTSTART;TZID=UTC:20260315T113000
DTEND;TZID=UTC:20260315T170000
DTSTAMP:20260420T083539
CREATED:20231117T211736Z
LAST-MODIFIED:20231117T211736Z
UID:10002504-1773574200-1773594000@www.davidatlanta.com
SUMMARY:DRAGALICIOUS BRUNCH
DESCRIPTION:Outrageous fun every Sunday Afternoon! Join the Ladies of Lips Atlanta for the Ultimate Drag Brunch. We pull out all the stops with a spectacular show! Enjoy delicious brunch entrées and fabulous over-the-top performances full of sing-along hits! Seatings at 11:30am & 2pm$35 brunch purchase per-person. \nIncludes all-you-can-drink Mimosas or Bloody Marys! \nReservations are required.
URL:https://www.davidatlanta.com/event/dragalicious-brunch-2/2026-03-15/
LOCATION:Lips Atlanta
ATTACH;FMTTYPE=image/webp:https://www.davidatlanta.com/wp-content/uploads/2023/11/LipsATL_Brunch_Taejah_1080x1080.webp
END:VEVENT
BEGIN:VEVENT
DTSTART;TZID=UTC:20260315T130000
DTEND;TZID=UTC:20260315T160000
DTSTAMP:20260420T083539
CREATED:20260306T222326Z
LAST-MODIFIED:20260306T222330Z
UID:10007636-1773579600-1773590400@www.davidatlanta.com
SUMMARY:GFFLA  OPEN PLAY 
DESCRIPTION: IT’S TIME\, ATL! The Gay Flag Football League of Atlanta is kicking things off with our FIRST OPEN PLAY — and YOU’RE invited! \n\n\n\nWhether you’re a seasoned baller\, brand new to flag football\, or just looking for community\, this is your moment to come meet the new league where EVERYONE is welcome.  Allies included. No experience needed — just bring good vibes and cleats! \n\n\n\n Sunday\,\, March 15 1:00 PM Coach Charles Rambo Park (Anderson Park)120 Anderson Avenue NW\, Atlanta 30314Come run routes.Come pull flags.Come build community.Come see what we’re about.And when the games wrap up? We’re keeping the energy going… \n\n\n\n SUNDAY FUNDAY VIBES Pull up to Oscar’s in Midtown** — have a drink (or two)\, laugh a little louder\, and connect off the field.This is more than football.This is family.This is inclusive.This is GFFLA.Tag your friends. Share the post. Let’s make history together.#GFFLA
URL:https://www.davidatlanta.com/event/gffla-open-play/
ATTACH;FMTTYPE=image/jpeg:https://www.davidatlanta.com/wp-content/uploads/2026/03/GFFLA.jpg
END:VEVENT
BEGIN:VEVENT
DTSTART;TZID=UTC:20260315T160000
DTEND;TZID=UTC:20260315T200000
DTSTAMP:20260420T083539
CREATED:20231109T213706Z
LAST-MODIFIED:20231109T213706Z
UID:10000659-1773590400-1773604800@www.davidatlanta.com
SUMMARY:Bears\, Beers\, Leather\, Cruising
DESCRIPTION:Join us on Sundays for fun and frolic with your bear and leather friends. Discounted draft beers and well cocktails. Discounted base appetizers.
URL:https://www.davidatlanta.com/event/bears-beers-leather-cruising/2026-03-15/
LOCATION:Woofs Atlanta
ATTACH;FMTTYPE=image/jpeg:https://www.davidatlanta.com/wp-content/uploads/2023/11/Woofs.jpeg
END:VEVENT
BEGIN:VEVENT
DTSTART;TZID=UTC:20260315T183000
DTEND;TZID=UTC:20260315T230000
DTSTAMP:20260420T083539
CREATED:20231117T211902Z
LAST-MODIFIED:20231117T211902Z
UID:10002765-1773599400-1773615600@www.davidatlanta.com
SUMMARY:SHOWSTOPPERS
DESCRIPTION:An extravaganza of Drag! Our Queens bring the action with a night of Mega Hits – hosted by Ms. Blush! Seating at 6:30-7:00PM$32 per person \nReservations are required.
URL:https://www.davidatlanta.com/event/showstoppers/2026-03-15/
LOCATION:Lips Atlanta
ATTACH;FMTTYPE=image/webp:https://www.davidatlanta.com/wp-content/uploads/2023/11/2021Showstoppers.webp
END:VEVENT
BEGIN:VEVENT
DTSTART;TZID=UTC:20260316T080000
DTEND;TZID=UTC:20260316T170000
DTSTAMP:20260420T083539
CREATED:20260306T215320Z
LAST-MODIFIED:20260306T215323Z
UID:10007368-1773648000-1773680400@www.davidatlanta.com
SUMMARY:CODE Night
DESCRIPTION:CODE Night is coming to Atlanta Eagle  \n\n\n\nMondays upstairs from 9pm–2am.Leather\, rubber\, pups\, furries — gear up and come have some fun.$5 cover includes a drink ticket.First night: February 2\, 2026.21+ only. Bark on
URL:https://www.davidatlanta.com/event/code-night/2026-03-16/
LOCATION:Atlanta Eagle
ATTACH;FMTTYPE=image/jpeg:https://www.davidatlanta.com/wp-content/uploads/2026/03/Code-Night.jpg
END:VEVENT
BEGIN:VEVENT
DTSTART;TZID=UTC:20260318T190000
DTEND;TZID=UTC:20260318T220000
DTSTAMP:20260420T083539
CREATED:20231117T210750Z
LAST-MODIFIED:20231117T210750Z
UID:10001458-1773860400-1773871200@www.davidatlanta.com
SUMMARY:Bitchy Bingo
DESCRIPTION:This is not your Grandmother’s bingo and our girls know how to play with some balls! Join us for dinner\, followed by awesome performances and hilarious rounds of bingo! Win fabulous prizes! Come and celebrate your special occasion with us! \n​Hosted by Brigitte Bidet & Taejah Thomas! \n​Seating is between 7:00-7:30 PM$32 per person \n​Call 404-315-7711 to make your reservation.
URL:https://www.davidatlanta.com/event/bitchy-bingo/2026-03-18/
LOCATION:Lips Atlanta
ATTACH;FMTTYPE=image/webp:https://www.davidatlanta.com/wp-content/uploads/2023/11/Bitchy-bingo.webp
END:VEVENT
BEGIN:VEVENT
DTSTART;TZID=UTC:20260318T210000
DTEND;TZID=UTC:20260318T233000
DTSTAMP:20260420T083539
CREATED:20231117T205830Z
LAST-MODIFIED:20231117T205830Z
UID:10001196-1773867600-1773876600@www.davidatlanta.com
SUMMARY:Martinis & Musicals
DESCRIPTION:Martinis and Musicals has a new host\, Aspen York! Join us every Wednesday night as we add a bit of fun to go along with our famous espresso martinis and sing-a-longs! Stop by and see us! Doors at 9 pm. Performances at 10 pm.
URL:https://www.davidatlanta.com/event/martinis-musicals/2026-03-18/
LOCATION:X Midtown
ATTACH;FMTTYPE=image/png:https://www.davidatlanta.com/wp-content/uploads/2023/11/Martinis-musicals.png
END:VEVENT
BEGIN:VEVENT
DTSTART;TZID=UTC:20260318T220000
DTEND;TZID=UTC:20260319T020000
DTSTAMP:20260420T083539
CREATED:20250124T215219Z
LAST-MODIFIED:20250124T215219Z
UID:10004005-1773871200-1773885600@www.davidatlanta.com
SUMMARY:UnderWear Night at the Eagle
DESCRIPTION:Every Wednesday. Clothes check available.
URL:https://www.davidatlanta.com/event/underwear-night-at-the-eagle/2026-03-18/
LOCATION:Atlanta Eagle
ATTACH;FMTTYPE=image/jpeg:https://www.davidatlanta.com/wp-content/uploads/2025/01/underwear-night-eagle.jpg
END:VEVENT
BEGIN:VEVENT
DTSTART;TZID=UTC:20260319T193000
DTEND;TZID=UTC:20260319T230000
DTSTAMP:20260420T083539
CREATED:20231117T210952Z
LAST-MODIFIED:20231117T211239Z
UID:10001719-1773948600-1773961200@www.davidatlanta.com
SUMMARY:THE DIVAS!
DESCRIPTION:Fierce\, Fabulous\, and Flawless! A show like no other!The night when all the stars come out!Hosted by Brigitte Bidet! \nSeating between 7-7:30PM\n$32 per person\nReservations are required.
URL:https://www.davidatlanta.com/event/the-divas/2026-03-19/
LOCATION:Lips Atlanta
ATTACH;FMTTYPE=image/webp:https://www.davidatlanta.com/wp-content/uploads/2023/11/LipsATL_DIVAS_FACEBOOK_JPG.webp
END:VEVENT
BEGIN:VEVENT
DTSTART;TZID=UTC:20260319T200000
DTEND;TZID=UTC:20260319T230000
DTSTAMP:20260420T083539
CREATED:20240111T225449Z
LAST-MODIFIED:20240111T225449Z
UID:10003327-1773950400-1773961200@www.davidatlanta.com
SUMMARY:Heretic Country
DESCRIPTION:Heretic Country Every Thursday Night No Cover Free Lessons 8pm Beginners Always Welcome!!
URL:https://www.davidatlanta.com/event/heretic-country/2026-03-19/
LOCATION:Heretic Atlanta
ATTACH;FMTTYPE=image/jpeg:https://www.davidatlanta.com/wp-content/uploads/2024/01/Country-night.jpeg
END:VEVENT
BEGIN:VEVENT
DTSTART;TZID=UTC:20260319T210000
DTEND;TZID=UTC:20260319T230000
DTSTAMP:20260420T083539
CREATED:20250328T205330Z
LAST-MODIFIED:20250328T205418Z
UID:10004386-1773954000-1773961200@www.davidatlanta.com
SUMMARY:RAQI’ ROCK HAUS KARAOKE
DESCRIPTION:Atlanta Eagle presenta “Rock Haus Karaoke” Hosted by Raqi. A Fresh face in Atlanta originally from Hawaii\, giving Midtown a Breathe of Fresh Air Every Thursdays at 9pm. Upstairs in the Mr. Charlie Brown Cabaret Room of The Atlanta Eagle. With a Spectacular Atmosphere\, Friendly Bartenders\, Always Cocktail Specials and Giveaways\, Atlanta Eagle is the Spot to be !
URL:https://www.davidatlanta.com/event/raqi-rock-haus-karaoke/2026-03-19/
LOCATION:Atlanta Eagle
ATTACH;FMTTYPE=image/jpeg:https://www.davidatlanta.com/wp-content/uploads/2025/03/IMG_1845.jpeg
END:VEVENT
BEGIN:VEVENT
DTSTART;TZID=UTC:20260319T230000
DTEND;TZID=UTC:20260319T235900
DTSTAMP:20260420T083539
CREATED:20231109T210950Z
LAST-MODIFIED:20231109T210950Z
UID:10010922-1773961200-1773964740@www.davidatlanta.com
SUMMARY:Atlanta's Angels
DESCRIPTION:EVERY Thursday night! The return of the “Atlanta Angels” at Blake’s On The Park – And this time\, we’re here to stay. Showtime is 11 pm! Hosted by Brigitte Bidet and with Lena Lust\, Cici Nicole. Phoenix\, and special guests.
URL:https://www.davidatlanta.com/event/atlantas-angels/2026-03-19/
LOCATION:Blake’s On the Park
ATTACH;FMTTYPE=image/jpeg:https://www.davidatlanta.com/wp-content/uploads/2023/11/Blakes-Angels.jpeg
END:VEVENT
BEGIN:VEVENT
DTSTART;TZID=UTC:20260320T193000
DTEND;TZID=UTC:20260320T233000
DTSTAMP:20260420T083539
CREATED:20231117T211155Z
LAST-MODIFIED:20231117T211155Z
UID:10001981-1774035000-1774049400@www.davidatlanta.com
SUMMARY:GLITZ & GLAM
DESCRIPTION:Our Friday night shows are filled with over-the-top glamour! Big hair\, high heels\, and a lot of duct tape! Hosted by Brigitte Bidet. \nTwo Seatings\n7:00PM 9:45PM \n$46 Per Person\nAny questions or concerns\, please inquire with management.  Reservations are required.
URL:https://www.davidatlanta.com/event/glitz-glam/2026-03-20/
LOCATION:Lips Atlanta
ATTACH;FMTTYPE=image/webp:https://www.davidatlanta.com/wp-content/uploads/2023/11/Gglipsbbfriday_1-scaled.webp
END:VEVENT
BEGIN:VEVENT
DTSTART;TZID=UTC:20260320T200000
DTEND;TZID=UTC:20260320T230000
DTSTAMP:20260420T083539
CREATED:20231214T223715Z
LAST-MODIFIED:20231214T223715Z
UID:10003046-1774036800-1774047600@www.davidatlanta.com
SUMMARY:Myah Ross Monroe's House Of Love
DESCRIPTION:Table Reservations available at reservations@atlantaeagle.com
URL:https://www.davidatlanta.com/event/myah-ross-monroes-house-of-love/2026-03-20/
LOCATION:Atlanta Eagle
ATTACH;FMTTYPE=image/jpeg:https://www.davidatlanta.com/wp-content/uploads/2023/12/House-of-love.jpeg
END:VEVENT
BEGIN:VEVENT
DTSTART;TZID=UTC:20260320T210000
DTEND;TZID=UTC:20260320T230000
DTSTAMP:20260420T083539
CREATED:20231109T212023Z
LAST-MODIFIED:20231109T212023Z
UID:10000398-1774040400-1774047600@www.davidatlanta.com
SUMMARY:Disco Dollz
DESCRIPTION:Disco Dollz is the perfect place to celebrate any occasion! We have table seating with a fun atmosphere\, yummy food\, great drinks\, and some of the best drag in the south!\nWe recommend you get tickets in advance at www.future-atlanta.com
URL:https://www.davidatlanta.com/event/disco-dollz/2026-03-20/
LOCATION:Future Atlanta
ATTACH;FMTTYPE=image/jpeg:https://www.davidatlanta.com/wp-content/uploads/2023/11/Disco-Dolls.jpeg
END:VEVENT
BEGIN:VEVENT
DTSTART;TZID=UTC:20260320T210000
DTEND;TZID=UTC:20260320T230000
DTSTAMP:20260420T083539
CREATED:20250418T020128Z
LAST-MODIFIED:20250418T020128Z
UID:10004456-1774040400-1774047600@www.davidatlanta.com
SUMMARY:The Other Show: Friday Drag Cabaret
DESCRIPTION:Every Friday night\, catch Edie Cheezburger and her cast of drag performers!\nAtlanta’s favorite Friday night drag cabaret is back! Catch the The Other Show upstairs at LORE on Edgewood Avenue every Friday night!\nShowtime at 9pm SHARP!\nTickets Here\nThe Other Show Cast:Edie CheezburgerBoudreauxOrchidTaejah ThomasTugboat\nFor guaranteed seating\, you must reserve a table.General Admission is standing room only – upstairs at Lore.\nThank you to our community partner at Team Bedgood REALTORS ! \nSee less
URL:https://www.davidatlanta.com/event/the-other-show-friday-drag-cabaret/2026-03-20/
LOCATION:Lore Atlanta
ATTACH;FMTTYPE=image/jpeg:https://www.davidatlanta.com/wp-content/uploads/2025/04/the-other-show-lore.jpg
END:VEVENT
BEGIN:VEVENT
DTSTART;TZID=UTC:20260320T210000
DTEND;TZID=UTC:20260321T030000
DTSTAMP:20260420T083539
CREATED:20260306T223854Z
LAST-MODIFIED:20260306T223856Z
UID:10007701-1774040400-1774062000@www.davidatlanta.com
SUMMARY:LATIN NIGHT at the Atlanta Eagle 
DESCRIPTION:Get ready to turn up the heat!  \n\n\n\nJoin us for LATIN NIGHT at the Atlanta Eagle on Friday\, March 20th!  We’ve got an incredible lineup to keep you dancing all night long: \n\n\n\n Opening Set (9 PM): DJ Angel kicks things off downstairs! \n\n\n\n Main Event (11 PM – 3 AM): A massive B2B set with Brian Rojas and Escuincle! \n\n\n\nThe Details: \n\n\n\n 8:00 PM: $8 Cover begins \n\n\n\n 10:00 PM: $10 Cover begins \n\n\n\n Age: 21+ only \n\n\n\n Location: 1492 Piedmont Ave NE\, Atlanta\, GA \n\n\n\nDon’t miss the best Latin vibes in the city. See you there!  \n\n\n\n#AtlantaEagle #LatinNight #AtlantaNightlife #BrianRojas #Escuincle #DJAngel #LatinVibes
URL:https://www.davidatlanta.com/event/latin-night-at-the-atlanta-eagle-2/
LOCATION:Atlanta Eagle
ATTACH;FMTTYPE=image/jpeg:https://www.davidatlanta.com/wp-content/uploads/2026/03/Latin-Night-March-26.jpg
END:VEVENT
END:VCALENDAR