BEGIN:VCALENDAR
VERSION:2.0
PRODID:-//David Magazine - ECPv6.15.17//NONSGML v1.0//EN
CALSCALE:GREGORIAN
METHOD:PUBLISH
X-WR-CALNAME:David Magazine
X-ORIGINAL-URL:https://www.davidatlanta.com
X-WR-CALDESC:Events for David Magazine
REFRESH-INTERVAL;VALUE=DURATION:PT1H
X-Robots-Tag:noindex
X-PUBLISHED-TTL:PT1H
BEGIN:VTIMEZONE
TZID:UTC
BEGIN:STANDARD
TZOFFSETFROM:+0000
TZOFFSETTO:+0000
TZNAME:UTC
DTSTART:20250101T000000
END:STANDARD
END:VTIMEZONE
BEGIN:VEVENT
DTSTART;TZID=UTC:20260418T230000
DTEND;TZID=UTC:20260419T030000
DTSTAMP:20260421T100241
CREATED:20260417T213907Z
LAST-MODIFIED:20260417T213910Z
UID:10013757-1776553200-1776567600@www.davidatlanta.com
SUMMARY:GOONZ
DESCRIPTION:GOONZ is taking over Atlanta Eagle  \n\n\n\n\n\n\n\n\n\n\n\nSaturday\, April 18 — step into the vibe and go all night with GOONZ  \n\n\n\n\n\n\n\n\n\n\n\n @_biggoonz_ \n\n\n\n11PM – 3AM \n\n\n\nOpening set by DJ Soss @sossthedj9PM – 12AM (Downstairs) \n\n\n\n$8 cover before 10PM$10 after \n\n\n\nGet ready for high energy\, deep beats\, and a packed dance floor all night 
URL:https://www.davidatlanta.com/event/goonz/
LOCATION:Atlanta Eagle
ATTACH;FMTTYPE=image/jpeg:https://www.davidatlanta.com/wp-content/uploads/2026/04/Goonz-eagle.jpg
END:VEVENT
BEGIN:VEVENT
DTSTART;TZID=UTC:20260419T110000
DTEND;TZID=UTC:20260419T113000
DTSTAMP:20260421T100242
CREATED:20260417T213804Z
LAST-MODIFIED:20260417T213805Z
UID:10013756-1776596400-1776598200@www.davidatlanta.com
SUMMARY:Sunday Stampede
DESCRIPTION:Sundays just got a whole lot more fun  \n\n\n\nJoin us April 19th for COUNTRY SUNDAY STAMPEDE at Atlanta Eagle  \n\n\n\n DJ Dice spinning all night Dance lessons to get you moving $6 Smirnoff specials No cover \n\n\n\n7PM – 12AM — grab your boots and hit the floor \n\n\n\n21+ | 1492 Piedmont Ave NE\, Atlanta \n\n\n\n#AtlantaEagle #CountrySunday #Stampede #AtlantaNightlife #DanceAtlanta
URL:https://www.davidatlanta.com/event/sunday-stampede/
LOCATION:Atlanta Eagle
ATTACH;FMTTYPE=image/jpeg:https://www.davidatlanta.com/wp-content/uploads/2026/04/countrystampede-sunday.jpg
END:VEVENT
BEGIN:VEVENT
DTSTART;TZID=UTC:20260419T113000
DTEND;TZID=UTC:20260419T170000
DTSTAMP:20260421T100242
CREATED:20231117T211736Z
LAST-MODIFIED:20231117T211736Z
UID:10002509-1776598200-1776618000@www.davidatlanta.com
SUMMARY:DRAGALICIOUS BRUNCH
DESCRIPTION:Outrageous fun every Sunday Afternoon! Join the Ladies of Lips Atlanta for the Ultimate Drag Brunch. We pull out all the stops with a spectacular show! Enjoy delicious brunch entrées and fabulous over-the-top performances full of sing-along hits! Seatings at 11:30am & 2pm$35 brunch purchase per-person. \nIncludes all-you-can-drink Mimosas or Bloody Marys! \nReservations are required.
URL:https://www.davidatlanta.com/event/dragalicious-brunch-2/2026-04-19/
LOCATION:Lips Atlanta
ATTACH;FMTTYPE=image/webp:https://www.davidatlanta.com/wp-content/uploads/2023/11/LipsATL_Brunch_Taejah_1080x1080.webp
END:VEVENT
BEGIN:VEVENT
DTSTART;TZID=UTC:20260419T160000
DTEND;TZID=UTC:20260419T200000
DTSTAMP:20260421T100242
CREATED:20231109T213706Z
LAST-MODIFIED:20231109T213706Z
UID:10000664-1776614400-1776628800@www.davidatlanta.com
SUMMARY:Bears\, Beers\, Leather\, Cruising
DESCRIPTION:Join us on Sundays for fun and frolic with your bear and leather friends. Discounted draft beers and well cocktails. Discounted base appetizers.
URL:https://www.davidatlanta.com/event/bears-beers-leather-cruising/2026-04-19/
LOCATION:Woofs Atlanta
ATTACH;FMTTYPE=image/jpeg:https://www.davidatlanta.com/wp-content/uploads/2023/11/Woofs.jpeg
END:VEVENT
BEGIN:VEVENT
DTSTART;TZID=UTC:20260419T183000
DTEND;TZID=UTC:20260419T230000
DTSTAMP:20260421T100242
CREATED:20231117T211902Z
LAST-MODIFIED:20231117T211902Z
UID:10002770-1776623400-1776639600@www.davidatlanta.com
SUMMARY:SHOWSTOPPERS
DESCRIPTION:An extravaganza of Drag! Our Queens bring the action with a night of Mega Hits – hosted by Ms. Blush! Seating at 6:30-7:00PM$32 per person \nReservations are required.
URL:https://www.davidatlanta.com/event/showstoppers/2026-04-19/
LOCATION:Lips Atlanta
ATTACH;FMTTYPE=image/webp:https://www.davidatlanta.com/wp-content/uploads/2023/11/2021Showstoppers.webp
END:VEVENT
END:VCALENDAR